BEGIN:VCALENDAR
VERSION:2.0
PRODID:-//hacksw/handcal//NONSGML v1.0//EN
CALSCALE:GREGORIAN
BEGIN:VEVENT
ORGANIZER;CN=The Scotts Miracle-Gro Company:MAILTO:no-reply@gcs-web.com
DTEND:
UID:a20ce559-fb71-4382-b62e-a8f46391833d
DTSTAMP:1777130513
LOCATION:https://scottsmiraclegro.gcs-web.com/events/event-details/q4-2026-scotts-miracle-gro-company-earnings-conference-call-tentative
DESCRIPTION:Event Details https://scottsmiraclegro.gcs-web.com/events/event-details/q4-2026-scotts-miracle-gro-company-earnings-conference-call-tentative
URL;VALUE=URI:https://scottsmiraclegro.gcs-web.com/events/event-details/q4-2026-scotts-miracle-gro-company-earnings-conference-call-tentative
SUMMARY:The Scotts Miracle-Gro Company - Q4 2026 The Scotts Miracle-Gro Company Earnings Conference Call (Tentative)
DTSTART:20261104T050000Z
END:VEVENT
END:VCALENDAR